Workbook

Sheet 標準様式3
A1: 秋 田 県 広 域 予 防 接 種
A2: 実施報告書 兼 請求書
AB3: 令和 | AF3: 年 | AI3: 月 | AL3: 日
B4: （宛先） | D4: 大仙市長 様
R5: 医療機関名 | W5: ：
R6: 所在地 | W6: ：
R7: 氏名 | W7: ：
R8: 登 録 番 号 | W8: ： | AK8: 印
I9: 定期予防接種にかかる | J9: 令和 | N9: 年 | Q9: 月分 | S9: の委託料として、次のとおり請求します。
I11: 請求金額 | P11: =AC32 -> 0 | AB11: 円
A13: 【 内 訳 】 | T13: ="( "&[1]委託料一覧!A2&" )" -> ( 令和８年7月１日現在 )
A14: 種 類（B類） | G14: 区 分 | L14: 件 数（人） (A) | S14: 単 価 (B) | AC14: 金 額 (A)×(B)
A15: インフルエンザ （高齢者） | G15: 実費徴収免除者 | Q15: =IF(G15="","",IF(ISBLANK(L15)=TRUE,"","人")) | AA15: =IF($S$15=0,"","円") | AC15: =L15*S15 -> 0 | AK15: =IF(G15="","",IF(ISBLANK(L15)=TRUE,"","円"))
G16: =IF(VLOOKUP($D$4,[1]委託料一覧!A6:BY34,[1]委託料一覧!BB3,FALSE)=0,"",VLOOKUP($D$4,[1]委託料一覧!A6:BY34,[1]委託料一覧!BB3,FALSE)) -> 65-74歳 | Q16: =IF(G16="","",IF(ISBLANK(L16)=TRUE,"","人")) | S16: =VLOOKUP($D$4,[1]委託料一覧!A6:CA34,[1]委託料一覧!BC3,FALSE) -> 1000 | AA16: =IF(S16=0,"","円") -> 円 | AC16: =L16*S16 -> 0 | AK16: =IF(G16="","",IF(ISBLANK(L16)=TRUE,"","円"))
G17: =IF(VLOOKUP($D$4,[1]委託料一覧!A6:BY34,[1]委託料一覧!BD3,FALSE)=0,"",VLOOKUP($D$4,[1]委託料一覧!A6:BY34,[1]委託料一覧!BD3,FALSE)) -> 75歳以上 | Q17: =IF(ISBLANK(L17)=TRUE,"","人") | S17: =VLOOKUP($D$4,[1]委託料一覧!A6:CA34,[1]委託料一覧!BE3,FALSE) -> 1500 | AA17: =IF($S$17=0,"","円") -> 円 | AC17: =L17*S17 -> 0 | AK17: =IF(ISBLANK(L17)=TRUE,"","円")
A18: 高齢者用肺炎球菌 | G18: 実費徴収免除者 | Q18: =IF(G18="","",IF(ISBLANK(L18)=TRUE,"","人")) | AA18: =IF($S$18=0,"","円") | AC18: =L18*S18 -> 0 | AK18: =IF(G18="","",IF(ISBLANK(L18)=TRUE,"","円"))
G19: =IF(VLOOKUP($D$4,[1]委託料一覧!A6:BY34,[1]委託料一覧!BF3,FALSE)=0,"",VLOOKUP($D$4,[1]委託料一覧!A6:CA34,[1]委託料一覧!BF3,FALSE)) | Q19: =IF(G19="","",IF(ISBLANK(L19)=TRUE,"","人")) | S19: =VLOOKUP($D$4,[1]委託料一覧!A6:CA34,[1]委託料一覧!BG3,FALSE) -> 0 | AA19: =IF(S19=0,"","円") | AC19: =L19*S19 -> 0 | AK19: =IF(G19="","",IF(ISBLANK(L19)=TRUE,"","円"))
G20: =IF(VLOOKUP($D$4,[1]委託料一覧!A6:CA34,[1]委託料一覧!BH3,FALSE)=0,"",VLOOKUP($D$4,[1]委託料一覧!A6:BY34,[1]委託料一覧!BH3,FALSE)) -> 一般 | Q20: =IF(ISBLANK(L20)=TRUE,"","人") | S20: =VLOOKUP($D$4,[1]委託料一覧!A6:CA34,[1]委託料一覧!BI3,FALSE) -> 4000 | AA20: =IF($S$20=0,"","円") -> 円 | AC20: =L20*S20 -> 0 | AK20: =IF(ISBLANK(L20)=TRUE,"","円")
A21: 新型コロナウイルス感染症 | G21: 実費徴収免除者 | Q21: =IF(G21="","",IF(ISBLANK(L21)=TRUE,"","人")) | AA21: =IF($S21=0,"","円") | AC21: =L21*S21 -> 0 | AK21: =IF(G21="","",IF(ISBLANK(L21)=TRUE,"","円"))
G22: =IF(VLOOKUP($D$4,[1]委託料一覧!A6:BY34,[1]委託料一覧!BJ3,FALSE)=0,"",VLOOKUP($D$4,[1]委託料一覧!A6:BY34,[1]委託料一覧!BJ3,FALSE)) | Q22: =IF(G22="","",IF(ISBLANK(L22)=TRUE,"","人")) | S22: =VLOOKUP($D$4,[1]委託料一覧!A6:CA34,[1]委託料一覧!BK3,FALSE) -> 0 | AA22: =IF($S22=0,"","円") | AC22: =L22*S22 -> 0 | AK22: =IF(G22="","",IF(ISBLANK(L22)=TRUE,"","円"))
G23: =IF(VLOOKUP($D$4,[1]委託料一覧!A6:BY34,[1]委託料一覧!BL3,FALSE)=0,"",VLOOKUP($D$4,[1]委託料一覧!A6:BY34,[1]委託料一覧!BL3,FALSE)) -> 一般 | Q23: =IF(ISBLANK(L23)=TRUE,"","人") | S23: =VLOOKUP($D$4,[1]委託料一覧!A6:CA34,[1]委託料一覧!BM3,FALSE) -> 10300 | AA23: =IF($S23=0,"","円") -> 円 | AC23: =L23*S23 -> 0 | AK23: =IF(ISBLANK(L23)=TRUE,"","円")
A24: 帯状疱疹 | F24: 組 換 え | G24: 実費徴収免除者 | Q24: =IF(G24="","",IF(ISBLANK(L24)=TRUE,"","人")) | AA24: =IF($S24=0,"","円") | AC24: =L24*S24 -> 0 | AK24: =IF(G24="","",IF(ISBLANK(L24)=TRUE,"","円"))
G25: =IF(VLOOKUP($D$4,[1]委託料一覧!A6:BY34,[1]委託料一覧!BN3,FALSE)=0,"",VLOOKUP($D$4,[1]委託料一覧!A6:BY34,[1]委託料一覧!BN3,FALSE)) | Q25: =IF(G25="","",IF(ISBLANK(L25)=TRUE,"","人")) | S25: =VLOOKUP($D$4,[1]委託料一覧!A6:CA34,[1]委託料一覧!BO3,FALSE) -> 0 | AA25: =IF($S25=0,"","円") | AC25: =L25*S25 -> 0 | AK25: =IF(G25="","",IF(ISBLANK(L25)=TRUE,"","円"))
G26: =IF(VLOOKUP($D$4,[1]委託料一覧!A6:BY34,[1]委託料一覧!BP3,FALSE)=0,"",VLOOKUP($D$4,[1]委託料一覧!A6:BY34,[1]委託料一覧!BP3,FALSE)) -> 一般 | Q26: =IF(ISBLANK(L26)=TRUE,"","人") | S26: =VLOOKUP($D$4,[1]委託料一覧!A6:BY34,[1]委託料一覧!BQ3,FALSE) -> 10000 | AA26: =IF($S26=0,"","円") -> 円 | AC26: =L26*S26 -> 0 | AK26: =IF(ISBLANK(L26)=TRUE,"","円")
F27: 生 ワ ク | G27: 実費徴収免除者 | Q27: =IF(G27="","",IF(ISBLANK(L27)=TRUE,"","人")) | AA27: =IF($S27=0,"","円") | AC27: =L27*S27 -> 0 | AK27: =IF(G27="","",IF(ISBLANK(L27)=TRUE,"","円"))
G28: =IF(VLOOKUP($D$4,[1]委託料一覧!A6:BY34,[1]委託料一覧!BR3,FALSE)=0,"",VLOOKUP($D$4,[1]委託料一覧!A6:BY34,[1]委託料一覧!BR3,FALSE)) | Q28: =IF(G28="","",IF(ISBLANK(L28)=TRUE,"","人")) | S28: =VLOOKUP(D4,[1]委託料一覧!A6:BY34,[1]委託料一覧!BS3,FALSE) -> 0 | AA28: =IF($S28=0,"","円") | AC28: =L28*S28 -> 0 | AK28: =IF(G28="","",IF(ISBLANK(L28)=TRUE,"","円"))
G29: =IF(VLOOKUP($D$4,[1]委託料一覧!A6:BY34,[1]委託料一覧!BT3,FALSE)=0,"",VLOOKUP($D$4,[1]委託料一覧!A6:BY34,[1]委託料一覧!BT3,FALSE)) -> 一般 | Q29: =IF(ISBLANK(L29)=TRUE,"","人") | S29: =VLOOKUP(D4,[1]委託料一覧!A6:BY34,[1]委託料一覧!BU3,FALSE) -> 5000 | AA29: =IF($S29=0,"","円") -> 円 | AC29: =L29*S29 -> 0 | AK29: =IF(ISBLANK(L29)=TRUE,"","円")
A30: 予 診 料 | G30: =IF(VLOOKUP($D$4,[1]委託料一覧!A6:BY34,[1]委託料一覧!BV3,FALSE)=0,"",VLOOKUP($D$4,[1]委託料一覧!A6:BY34,[1]委託料一覧!BV3,FALSE)) | Q30: =IF(G30="","",IF(ISBLANK(L30)=TRUE,"","人")) | S30: =VLOOKUP(D4,[1]委託料一覧!A6:BY34,[1]委託料一覧!BW3,FALSE) -> 0 | AA30: =IF(S30=0,"","円") | AC30: =L30*S30 -> 0 | AK30: =IF(G30="","",IF(ISBLANK(L30)=TRUE,"","円"))
G31: =IF(VLOOKUP($D$4,[1]委託料一覧!A6:BY34,[1]委託料一覧!BX3,FALSE)=0,"",VLOOKUP($D$4,[1]委託料一覧!A6:BY34,[1]委託料一覧!BX3,FALSE)) -> 無し | Q31: =IF(ISBLANK(L31)=TRUE,"","人") | S31: =VLOOKUP(D4,[1]委託料一覧!A6:BY34,[1]委託料一覧!BY3,FALSE) -> 0 | AA31: =IF(S31=0,"","円") | AC31: =L31*S31 -> 0 | AK31: =IF(G31="無し","",IF(ISBLANK(L31)=TRUE,"","円"))
A32: 合 計 | L32: =SUM(L15:P31) -> 0 | Q32: =IF($L$32=0,"","人") | AC32: =SUM(AC15:AJ31) -> 0 | AK32: =IF(AC32=0,"","円")
A33: １０％対象 | I33: 0 | S33: 消費税額等
A35: 摘 要 | G35: インフルエンザの実施期間は原則10月～3月（流行状況によって変更する場合あり）、新型コロナウイルスは10月～3月
A36: 注 意 事 項 | G36: =IF(VLOOKUP($D$4,[1]委託料一覧!A6:CA34,[1]委託料一覧!CA3,FALSE)=0,"",VLOOKUP($D$4,[1]委託料一覧!A6:CA34,[1]委託料一覧!CA3,FALSE)) -> 【インフルエンザ（高齢者）・新型コロナウイルス感染症・帯状疱疹】生保受給者・中国残留邦人の方は無料。 【高齢者用肺炎球菌】生保受給者・中国残留邦人の方は無料 押印なしの場合は「発行責任者及び担当者」の氏名及び連絡先を明記する。事務担当者から在籍確認の電話をする場合があります。
A37: 備 考 | G37: ※適格請求書として発行する場合は、適格請求書として必要な事項を記入してください。
A40: 【 振 込 先 】
A41: 金 融 機 関 名 | S41: 本 ・ 支 店 名
A42: 預 金 種 別 | S42: 口 座 番 号
A43: フ リ ガ ナ
A44: 口 座 名 義
A46: ◎ | B46: 添付書類 | G46: ： | H46: 予診票
...
